BEGIN:VCALENDAR
VERSION:2.0
PRODID:-//Plone.org//NONSGML plone.app.event//EN
X-WR-TIMEZONE:Europe/Madrid
BEGIN:VEVENT
SUMMARY:Esdeveniment de mostra 2
DTSTART;TZID=Europe/Madrid:20210212T120000
DTEND;TZID=Europe/Madrid:20610202T120000
DTSTAMP:20260420T084851Z
UID:3b0debe8cc974f5cb8c8c1810c61d883@plasmamedlab.upc.edu
CONTACT:Responsable esdeveniment\, adreca@noreply.com
CREATED:20210212T112056Z
LAST-MODIFIED:20210212T112057Z
LOCATION:Lloc de l'esdeveniment
URL:https://plasmamedlab.upc.edu/ca/esdeveniments/esdeveniment-de-mostra-2
END:VEVENT
BEGIN:VTIMEZONE
TZID:Europe/Madrid
X-LIC-LOCATION:Europe/Madrid
BEGIN:STANDARD
DTSTART:20201025T020000
TZNAME:CET
TZOFFSETFROM:+0200
TZOFFSETTO:+0100
END:STANDARD
BEGIN:STANDARD
DTSTART:20371025T020000
TZNAME:CET
TZOFFSETFROM:+0200
TZOFFSETTO:+0100
END:STANDARD
END:VTIMEZONE
END:VCALENDAR
